Package: siggenes Version: 1.84.0 Command: /home/biocbuild/bbs-3.22-bioc/R/bin/R CMD build --keep-empty-dirs --no-resave-data --md5 siggenes StartedAt: 2025-10-31 20:15:05 -0400 (Fri, 31 Oct 2025) EndedAt: 2025-10-31 20:15:30 -0400 (Fri, 31 Oct 2025) EllapsedTime: 25.0 seconds RetCode: 0 Status: OK PackageFile: siggenes_1.84.0.tar.gz PackageFileSize: 751.3 KiB