Package: sigFeature Version: 1.27.0 Command: /home/biocbuild/bbs-3.22-bioc/R/bin/R CMD check --install=check:sigFeature.install-out.txt --library=/home/biocbuild/bbs-3.22-bioc/R/site-library --timings sigFeature_1.27.0.tar.gz StartedAt: 2025-10-25 04:10:00 -0400 (Sat, 25 Oct 2025) EndedAt: 2025-10-25 04:13:22 -0400 (Sat, 25 Oct 2025) EllapsedTime: 201.2 seconds RetCode: 0 Status: WARNINGS CheckDir: sigFeature.Rcheck Warnings: 1