Package: shinyepico Version: 1.18.0 Command: /Library/Frameworks/R.framework/Resources/bin/R CMD INSTALL shinyepico StartedAt: 2025-11-10 15:22:03 -0500 (Mon, 10 Nov 2025) EndedAt: 2025-11-10 15:22:05 -0500 (Mon, 10 Nov 2025) EllapsedTime: 2.1 seconds RetCode: 0 Status: OK