Package: shinybiocloader Version: 0.99.1 Command: /home/biocbuild/bbs-3.22-bioc/R/bin/R CMD INSTALL shinybiocloader StartedAt: 2025-10-24 15:18:34 -0400 (Fri, 24 Oct 2025) EndedAt: 2025-10-24 15:19:09 -0400 (Fri, 24 Oct 2025) EllapsedTime: 35.6 seconds RetCode: 0 Status: OK