Package: shinybiocloader Version: 0.99.1 Command: /Library/Frameworks/R.framework/Resources/bin/R CMD INSTALL shinybiocloader StartedAt: 2025-10-24 15:17:53 -0400 (Fri, 24 Oct 2025) EndedAt: 2025-10-24 15:18:36 -0400 (Fri, 24 Oct 2025) EllapsedTime: 42.5 seconds RetCode: 0 Status: OK