Package: shinybiocloader Version: 0.99.1 Command: /Library/Frameworks/R.framework/Resources/bin/R CMD build --keep-empty-dirs --no-resave-data shinybiocloader StartedAt: 2025-10-24 17:44:54 -0400 (Fri, 24 Oct 2025) EndedAt: 2025-10-24 17:44:58 -0400 (Fri, 24 Oct 2025) EllapsedTime: 4.1 seconds RetCode: 0 Status: OK PackageFile: shinybiocloader_0.99.1.tar.gz PackageFileSize: 28.59 KiB