Package: shinyMethyl Version: 1.45.0 Command: /home/biocbuild/bbs-3.22-bioc/R/bin/R CMD INSTALL shinyMethyl StartedAt: 2025-10-24 15:53:31 -0400 (Fri, 24 Oct 2025) EndedAt: 2025-10-24 15:54:16 -0400 (Fri, 24 Oct 2025) EllapsedTime: 45.1 seconds RetCode: 0 Status: OK