Package: shinyMethyl Version: 1.45.0 Command: /home/biocbuild/bbs-3.22-bioc/R/bin/R CMD build --keep-empty-dirs --no-resave-data --md5 shinyMethyl StartedAt: 2025-10-24 20:12:54 -0400 (Fri, 24 Oct 2025) EndedAt: 2025-10-24 20:13:59 -0400 (Fri, 24 Oct 2025) EllapsedTime: 65.1 seconds RetCode: 0 Status: OK PackageFile: shinyMethyl_1.45.0.tar.gz PackageFileSize: 7.244 MiB