Package: shinyMethyl Version: 1.46.0 Command: /Library/Frameworks/R.framework/Resources/bin/R CMD INSTALL shinyMethyl StartedAt: 2025-11-10 15:22:01 -0500 (Mon, 10 Nov 2025) EndedAt: 2025-11-10 15:22:20 -0500 (Mon, 10 Nov 2025) EllapsedTime: 19.0 seconds RetCode: 0 Status: OK