Package: shinyMethyl Version: 1.46.0 Command: /Library/Frameworks/R.framework/Resources/bin/R CMD build --keep-empty-dirs --no-resave-data shinyMethyl StartedAt: 2025-11-10 17:45:16 -0500 (Mon, 10 Nov 2025) EndedAt: 2025-11-10 17:45:44 -0500 (Mon, 10 Nov 2025) EllapsedTime: 28.3 seconds RetCode: 0 Status: OK PackageFile: shinyMethyl_1.46.0.tar.gz PackageFileSize: 7.241 MiB