Package: shinyDSP Version: 1.1.2 Command: /home/biocbuild/bbs-3.22-bioc/R/bin/R CMD check --install=check:shinyDSP.install-out.txt --library=/home/biocbuild/bbs-3.22-bioc/R/site-library --timings shinyDSP_1.1.2.tar.gz StartedAt: 2025-10-25 04:08:36 -0400 (Sat, 25 Oct 2025) EndedAt: 2025-10-25 04:18:22 -0400 (Sat, 25 Oct 2025) EllapsedTime: 585.7 seconds RetCode: 0 Status: OK CheckDir: shinyDSP.Rcheck Warnings: 0