Package: shinyDSP Version: 1.1.2 Command: /Library/Frameworks/R.framework/Resources/bin/R CMD INSTALL shinyDSP StartedAt: 2025-10-24 15:55:25 -0400 (Fri, 24 Oct 2025) EndedAt: 2025-10-24 15:56:18 -0400 (Fri, 24 Oct 2025) EllapsedTime: 52.7 seconds RetCode: 0 Status: OK