Package: shinyDSP Version: 1.1.2 Command: /Library/Frameworks/R.framework/Resources/bin/R CMD build --keep-empty-dirs --no-resave-data shinyDSP StartedAt: 2025-10-24 18:47:11 -0400 (Fri, 24 Oct 2025) EndedAt: 2025-10-24 18:53:03 -0400 (Fri, 24 Oct 2025) EllapsedTime: 351.6 seconds RetCode: 0 Status: OK PackageFile: shinyDSP_1.1.2.tar.gz PackageFileSize: 2.656 MiB