Package: sevenC Version: 1.29.2 Command: /home/biocbuild/bbs-3.22-bioc/R/bin/R CMD INSTALL sevenC StartedAt: 2025-10-24 15:37:53 -0400 (Fri, 24 Oct 2025) EndedAt: 2025-10-24 15:38:14 -0400 (Fri, 24 Oct 2025) EllapsedTime: 21.3 seconds RetCode: 0 Status: OK