Package: sesame Version: 1.27.1 Command: rm -rf sesame.buildbin-libdir && mkdir sesame.buildbin-libdir && /Users/biocbuild/BBS/utils/build-universal.sh sesame_1.27.1.tar.gz /Library/Frameworks/R.framework/Resources/bin/R sesame.buildbin-libdir StartedAt: 2025-10-24 23:19:47 -0400 (Fri, 24 Oct 2025) EndedAt: 2025-10-24 23:20:04 -0400 (Fri, 24 Oct 2025) EllapsedTime: 17.4 seconds RetCode: 0 Status: OK PackageFile: sesame_1.27.1.tgz PackageFileSize: 16.84 MiB