Package: seqPattern Version: 1.41.0 Command: /home/biocbuild/bbs-3.22-bioc/R/bin/R CMD build --keep-empty-dirs --no-resave-data --md5 seqPattern StartedAt: 2025-10-24 20:10:51 -0400 (Fri, 24 Oct 2025) EndedAt: 2025-10-24 20:11:21 -0400 (Fri, 24 Oct 2025) EllapsedTime: 30.0 seconds RetCode: 0 Status: OK PackageFile: seqPattern_1.41.0.tar.gz PackageFileSize: 5.37 MiB