Package: seqPattern Version: 1.41.0 Command: /Library/Frameworks/R.framework/Resources/bin/R CMD INSTALL seqPattern StartedAt: 2025-10-26 15:09:12 -0400 (Sun, 26 Oct 2025) EndedAt: 2025-10-26 15:09:17 -0400 (Sun, 26 Oct 2025) EllapsedTime: 4.4 seconds RetCode: 0 Status: OK