Package: seqLogo Version: 1.75.0 Command: /home/biocbuild/bbs-3.22-bioc/R/bin/R CMD INSTALL seqLogo StartedAt: 2025-10-24 15:14:32 -0400 (Fri, 24 Oct 2025) EndedAt: 2025-10-24 15:14:57 -0400 (Fri, 24 Oct 2025) EllapsedTime: 25.4 seconds RetCode: 0 Status: OK