Package: seqArchRplus Version: 1.9.2 Command: /home/biocbuild/bbs-3.22-bioc/R/bin/R CMD build --keep-empty-dirs --no-resave-data --md5 seqArchRplus StartedAt: 2025-10-27 20:01:49 -0400 (Mon, 27 Oct 2025) EndedAt: 2025-10-27 20:04:33 -0400 (Mon, 27 Oct 2025) EllapsedTime: 163.1 seconds RetCode: 0 Status: OK PackageFile: seqArchRplus_1.9.2.tar.gz PackageFileSize: 3.003 MiB