Package: seqArchR Version: 1.13.1 Command: /Library/Frameworks/R.framework/Resources/bin/R CMD INSTALL seqArchR StartedAt: 2025-10-26 15:12:36 -0400 (Sun, 26 Oct 2025) EndedAt: 2025-10-26 15:12:43 -0400 (Sun, 26 Oct 2025) EllapsedTime: 7.0 seconds RetCode: 0 Status: OK