Package: seqArchR Version: 1.13.1 Command: /Library/Frameworks/R.framework/Resources/bin/R CMD build --keep-empty-dirs --no-resave-data seqArchR StartedAt: 2025-10-26 17:58:20 -0400 (Sun, 26 Oct 2025) EndedAt: 2025-10-26 17:58:36 -0400 (Sun, 26 Oct 2025) EllapsedTime: 16.2 seconds RetCode: 0 Status: OK PackageFile: seqArchR_1.13.1.tar.gz PackageFileSize: 4.767 MiB