Package: seqArchR Version: 1.13.1 Command: rm -rf seqArchR.buildbin-libdir && mkdir seqArchR.buildbin-libdir && /Users/biocbuild/BBS/utils/build-universal.sh seqArchR_1.13.1.tar.gz /Library/Frameworks/R.framework/Resources/bin/R seqArchR.buildbin-libdir StartedAt: 2025-10-26 22:48:10 -0400 (Sun, 26 Oct 2025) EndedAt: 2025-10-26 22:48:17 -0400 (Sun, 26 Oct 2025) EllapsedTime: 7.2 seconds RetCode: 0 Status: OK PackageFile: seqArchR_1.13.1.tgz PackageFileSize: 2.32 MiB