Package: seq2pathway Version: 1.41.0 Command: /home/biocbuild/bbs-3.22-bioc/R/bin/R CMD INSTALL seq2pathway StartedAt: 2025-10-24 15:54:43 -0400 (Fri, 24 Oct 2025) EndedAt: 2025-10-24 15:55:07 -0400 (Fri, 24 Oct 2025) EllapsedTime: 24.4 seconds RetCode: 0 Status: OK