Package: seq.hotSPOT Version: 1.9.0 Command: /home/biocbuild/bbs-3.22-bioc/R/bin/R CMD build --keep-empty-dirs --no-resave-data --md5 seq.hotSPOT StartedAt: 2025-10-27 20:01:40 -0400 (Mon, 27 Oct 2025) EndedAt: 2025-10-27 20:01:47 -0400 (Mon, 27 Oct 2025) EllapsedTime: 7.0 seconds RetCode: 0 Status: OK PackageFile: seq.hotSPOT_1.9.0.tar.gz PackageFileSize: 1.402 MiB