Package: semisup Version: 1.33.0 Command: /home/biocbuild/bbs-3.22-bioc/R/bin/R CMD INSTALL semisup StartedAt: 2025-10-27 15:09:33 -0400 (Mon, 27 Oct 2025) EndedAt: 2025-10-27 15:09:55 -0400 (Mon, 27 Oct 2025) EllapsedTime: 21.5 seconds RetCode: 0 Status: OK