Package: selectKSigs Version: 1.21.0 Command: /home/biocbuild/bbs-3.22-bioc/R/bin/R CMD INSTALL selectKSigs StartedAt: 2025-10-24 16:11:42 -0400 (Fri, 24 Oct 2025) EndedAt: 2025-10-24 16:11:56 -0400 (Fri, 24 Oct 2025) EllapsedTime: 14.2 seconds RetCode: 0 Status: OK