Package: segmenter Version: 1.15.0 Command: /home/biocbuild/R/R/bin/R CMD INSTALL segmenter StartedAt: 2025-10-23 21:25:46 -0000 (Thu, 23 Oct 2025) EndedAt: 2025-10-23 21:26:45 -0000 (Thu, 23 Oct 2025) EllapsedTime: 58.6 seconds RetCode: 0 Status: OK