Package: segmenter Version: 1.15.0 Command: /home/biocbuild/bbs-3.22-bioc/R/bin/R CMD check --install=check:segmenter.install-out.txt --library=/home/biocbuild/bbs-3.22-bioc/R/site-library --timings segmenter_1.15.0.tar.gz StartedAt: 2025-10-25 04:02:12 -0400 (Sat, 25 Oct 2025) EndedAt: 2025-10-25 04:16:21 -0400 (Sat, 25 Oct 2025) EllapsedTime: 848.9 seconds RetCode: 0 Status: OK CheckDir: segmenter.Rcheck Warnings: 0