Package: segmenter Version: 1.15.0 Command: /Library/Frameworks/R.framework/Resources/bin/R CMD INSTALL segmenter StartedAt: 2025-10-26 15:32:03 -0400 (Sun, 26 Oct 2025) EndedAt: 2025-10-26 15:32:21 -0400 (Sun, 26 Oct 2025) EllapsedTime: 18.4 seconds RetCode: 0 Status: OK