Package: segmenter Version: 1.16.0 Command: /Library/Frameworks/R.framework/Resources/bin/R CMD check --install=check:segmenter.install-out.txt --library=/Library/Frameworks/R.framework/Resources/library --no-vignettes --timings segmenter_1.16.0.tar.gz StartedAt: 2025-11-10 22:19:06 -0500 (Mon, 10 Nov 2025) EndedAt: 2025-11-10 22:22:17 -0500 (Mon, 10 Nov 2025) EllapsedTime: 190.4 seconds RetCode: 0 Status: OK CheckDir: segmenter.Rcheck Warnings: 0