Package: segmentSeq Version: 2.43.1 Command: /home/biocbuild/R/R/bin/R CMD build --keep-empty-dirs --no-resave-data segmentSeq StartedAt: 2025-10-21 03:04:18 -0000 (Tue, 21 Oct 2025) EndedAt: 2025-10-21 03:07:41 -0000 (Tue, 21 Oct 2025) EllapsedTime: 202.1 seconds RetCode: 0 Status: OK PackageFile: segmentSeq_2.43.1.tar.gz PackageFileSize: 2.918 MiB