Package: segmentSeq Version: 2.43.1 Command: /home/biocbuild/bbs-3.22-bioc/R/bin/R CMD INSTALL segmentSeq StartedAt: 2025-10-24 16:02:42 -0400 (Fri, 24 Oct 2025) EndedAt: 2025-10-24 16:03:18 -0400 (Fri, 24 Oct 2025) EllapsedTime: 36.4 seconds RetCode: 0 Status: OK