Package: segmentSeq Version: 2.43.1 Command: /home/biocbuild/bbs-3.22-bioc/R/bin/R CMD check --install=check:segmentSeq.install-out.txt --library=/home/biocbuild/bbs-3.22-bioc/R/site-library --timings segmentSeq_2.43.1.tar.gz StartedAt: 2025-10-25 04:02:12 -0400 (Sat, 25 Oct 2025) EndedAt: 2025-10-25 04:10:16 -0400 (Sat, 25 Oct 2025) EllapsedTime: 484.5 seconds RetCode: 0 Status: OK CheckDir: segmentSeq.Rcheck Warnings: 0