Package: segmentSeq Version: 2.43.1 Command: /Library/Frameworks/R.framework/Resources/bin/R CMD INSTALL segmentSeq StartedAt: 2025-10-24 15:50:37 -0400 (Fri, 24 Oct 2025) EndedAt: 2025-10-24 15:51:28 -0400 (Fri, 24 Oct 2025) EllapsedTime: 50.9 seconds RetCode: 0 Status: OK