Package: segmentSeq Version: 2.43.1 Command: /Library/Frameworks/R.framework/Resources/bin/R CMD check --install=check:segmentSeq.install-out.txt --library=/Library/Frameworks/R.framework/Resources/library --no-vignettes --timings segmentSeq_2.43.1.tar.gz StartedAt: 2025-10-25 00:12:43 -0400 (Sat, 25 Oct 2025) EndedAt: 2025-10-25 00:18:58 -0400 (Sat, 25 Oct 2025) EllapsedTime: 375.2 seconds RetCode: 0 Status: OK CheckDir: segmentSeq.Rcheck Warnings: 0