Package: segmentSeq Version: 2.43.1 Command: /Library/Frameworks/R.framework/Resources/bin/R CMD build --keep-empty-dirs --no-resave-data segmentSeq StartedAt: 2025-10-24 18:44:38 -0400 (Fri, 24 Oct 2025) EndedAt: 2025-10-24 18:47:22 -0400 (Fri, 24 Oct 2025) EllapsedTime: 164.0 seconds RetCode: 0 Status: OK PackageFile: segmentSeq_2.43.1.tar.gz PackageFileSize: 3.073 MiB