Package: segmentSeq Version: 2.43.1 Command: /Library/Frameworks/R.framework/Resources/bin/R CMD check --install=check:segmentSeq.install-out.txt --library=/Library/Frameworks/R.framework/Resources/library --no-vignettes --timings segmentSeq_2.43.1.tar.gz StartedAt: 2025-10-24 22:02:53 -0400 (Fri, 24 Oct 2025) EndedAt: 2025-10-24 22:05:15 -0400 (Fri, 24 Oct 2025) EllapsedTime: 142.8 seconds RetCode: 0 Status: OK CheckDir: segmentSeq.Rcheck Warnings: 0