Package: sechm Version: 1.17.1 Command: /home/biocbuild/bbs-3.22-bioc/R/bin/R CMD INSTALL sechm StartedAt: 2025-10-24 15:28:36 -0400 (Fri, 24 Oct 2025) EndedAt: 2025-10-24 15:29:01 -0400 (Fri, 24 Oct 2025) EllapsedTime: 24.1 seconds RetCode: 0 Status: OK