Package: sechm Version: 1.17.1 Command: /home/biocbuild/bbs-3.22-bioc/R/bin/R CMD build --keep-empty-dirs --no-resave-data --md5 sechm StartedAt: 2025-10-24 20:08:43 -0400 (Fri, 24 Oct 2025) EndedAt: 2025-10-24 20:09:49 -0400 (Fri, 24 Oct 2025) EllapsedTime: 66.1 seconds RetCode: 0 Status: OK PackageFile: sechm_1.17.1.tar.gz PackageFileSize: 1.049 MiB