Package: sechm Version: 1.18.0 Command: /Library/Frameworks/R.framework/Resources/bin/R CMD INSTALL sechm StartedAt: 2025-11-10 15:11:39 -0500 (Mon, 10 Nov 2025) EndedAt: 2025-11-10 15:11:49 -0500 (Mon, 10 Nov 2025) EllapsedTime: 9.9 seconds RetCode: 0 Status: OK