Package: sechm Version: 1.18.0 Command: /Library/Frameworks/R.framework/Resources/bin/R CMD build --keep-empty-dirs --no-resave-data sechm StartedAt: 2025-11-10 17:43:14 -0500 (Mon, 10 Nov 2025) EndedAt: 2025-11-10 17:43:44 -0500 (Mon, 10 Nov 2025) EllapsedTime: 29.3 seconds RetCode: 0 Status: OK PackageFile: sechm_1.18.0.tar.gz PackageFileSize: 1.051 MiB