Package: scviR Version: 1.9.14 Command: /home/biocbuild/bbs-3.22-bioc/R/bin/R CMD INSTALL scviR StartedAt: 2025-10-27 15:58:19 -0400 (Mon, 27 Oct 2025) EndedAt: 2025-10-27 15:58:50 -0400 (Mon, 27 Oct 2025) EllapsedTime: 31.5 seconds RetCode: 0 Status: OK