Package: scviR Version: 1.9.14 Command: /home/biocbuild/bbs-3.22-bioc/R/bin/R CMD build --keep-empty-dirs --no-resave-data --md5 scviR StartedAt: 2025-10-24 20:07:56 -0400 (Fri, 24 Oct 2025) EndedAt: 2025-10-24 20:18:09 -0400 (Fri, 24 Oct 2025) EllapsedTime: 612.6 seconds RetCode: 0 Status: OK PackageFile: scviR_1.9.14.tar.gz PackageFileSize: 3.859 MiB