Package: scviR Version: 1.10.0 Command: /Library/Frameworks/R.framework/Resources/bin/R CMD INSTALL scviR StartedAt: 2025-10-30 15:29:24 -0400 (Thu, 30 Oct 2025) EndedAt: 2025-10-30 15:29:37 -0400 (Thu, 30 Oct 2025) EllapsedTime: 12.5 seconds RetCode: 0 Status: OK