Package: scviR Version: 1.10.0 Command: /Library/Frameworks/R.framework/Resources/bin/R CMD build --keep-empty-dirs --no-resave-data scviR StartedAt: 2025-10-30 17:42:36 -0400 (Thu, 30 Oct 2025) EndedAt: 2025-10-30 18:22:36 -0400 (Thu, 30 Oct 2025) EllapsedTime: 2400.0 seconds RetCode: None Status: TIMEOUT PackageFile: None PackageFileSize: NA