Package: scuttle Version: 1.19.0 Command: /home/biocbuild/R/R/bin/R CMD build --keep-empty-dirs --no-resave-data scuttle StartedAt: 2025-10-21 03:03:09 -0000 (Tue, 21 Oct 2025) EndedAt: 2025-10-21 03:06:51 -0000 (Tue, 21 Oct 2025) EllapsedTime: 221.1 seconds RetCode: 0 Status: OK PackageFile: scuttle_1.19.0.tar.gz PackageFileSize: 1.172 MiB