Package: scuttle Version: 1.19.0 Command: /Library/Frameworks/R.framework/Resources/bin/R CMD build --keep-empty-dirs --no-resave-data scuttle StartedAt: 2025-10-24 17:42:38 -0400 (Fri, 24 Oct 2025) EndedAt: 2025-10-24 17:43:46 -0400 (Fri, 24 Oct 2025) EllapsedTime: 67.8 seconds RetCode: 0 Status: OK PackageFile: scuttle_1.19.0.tar.gz PackageFileSize: 1006 KiB