Back to Multiple platform build/check report for BioC 3.22:   simplified   long
ABCDEFGHIJKLMNOPQR[S]TUVWXYZ

This page was generated on 2025-10-25 12:03 -0400 (Sat, 25 Oct 2025).

HostnameOSArch (*)R versionInstalled pkgs
nebbiolo2Linux (Ubuntu 24.04.3 LTS)x86_644.5.1 Patched (2025-08-23 r88802) -- "Great Square Root" 4901
lconwaymacOS 12.7.6 Montereyx86_644.5.1 Patched (2025-09-10 r88807) -- "Great Square Root" 4691
kjohnson3macOS 13.7.7 Venturaarm644.5.1 Patched (2025-09-10 r88807) -- "Great Square Root" 4637
taishanLinux (openEuler 24.03 LTS)aarch644.5.0 (2025-04-11) -- "How About a Twenty-Six" 4658
Click on any hostname to see more info about the system (e.g. compilers)      (*) as reported by 'uname -p', except on Windows and Mac OS X

All results for package scuttle


To the developers/maintainers of the scuttle package:
- Allow up to 24 hours (and sometimes 48 hours) for your latest push to git@git.bioconductor.org:packages/scuttle.git to reflect on this report. See Troubleshooting Build Report for more information.
- Use the following Renviron settings to reproduce errors and warnings.
- If 'R CMD check' started to fail recently on the Linux builder(s) over a missing dependency, add the missing dependency to 'Suggests:' in your DESCRIPTION file. See Renviron.bioc for more information.

raw results

Package 1964/2361HostnameOS / ArchINSTALLBUILDCHECKBUILD BIN
scuttle 1.19.0  (landing page)
Aaron Lun
Snapshot Date: 2025-10-24 13:45 -0400 (Fri, 24 Oct 2025)
git_url: https://git.bioconductor.org/packages/scuttle
git_branch: devel
git_last_commit: bdcc1f8
git_last_commit_date: 2025-04-15 11:59:18 -0400 (Tue, 15 Apr 2025)
nebbiolo2Linux (Ubuntu 24.04.3 LTS) / x86_64  OK    OK    OK  UNNEEDED, same version is already published
lconwaymacOS 12.7.6 Monterey / x86_64  OK    OK    OK    OK  UNNEEDED, same version is already published
kjohnson3macOS 13.7.7 Ventura / arm64  OK    OK    OK    OK  UNNEEDED, same version is already published
taishanLinux (openEuler 24.03 LTS) / aarch64  OK    NA    NA  



Results for Bioconductor software packages that depend directly on package scuttle

QUICK STATSOS / ArchINSTALLBUILDCHECKBUILD BIN
nebbiolo2Linux (Ubuntu 24.04.3 LTS) / x86_64
0026
0026
00323
lconwaymacOS 12.7.6 Monterey / x86_64
0026
0026
10322
0026
kjohnson3macOS 13.7.7 Ventura / arm64
0026
0125
02320
0025
taishanLinux (openEuler 24.03 LTS) / aarch64
0223
000
0000
Package 1/26HostnameOS / ArchINSTALLBUILDCHECKBUILD BIN
BASiCS 2.21.1  (landing page)
Catalina Vallejos
git_last_commit: a6635d4
git_last_commit_date: 2025-09-17 04:48:21 -0400
nebbiolo2Linux (Ubuntu 24.04.3 LTS) / x86_64  OK    OK    WARNINGS  UNNEEDED, same version is already published
lconwaymacOS 12.7.6 Monterey / x86_64  OK    OK    WARNINGS    OK  UNNEEDED, same version is already published
kjohnson3macOS 13.7.7 Ventura / arm64  OK    OK    WARNINGS    OK  UNNEEDED, same version is already published
taishanLinux (openEuler 24.03 LTS) / aarch64  OK    NA    NA  
Package 2/26HostnameOS / ArchINSTALLBUILDCHECKBUILD BIN
BASiCStan 1.11.0  (landing page)
Alan O'Callaghan
git_last_commit: d444e6e
git_last_commit_date: 2025-04-15 12:55:04 -0400
nebbiolo2Linux (Ubuntu 24.04.3 LTS) / x86_64  OK    OK    OK  UNNEEDED, same version is already published
lconwaymacOS 12.7.6 Monterey / x86_64  OK    OK    OK    OK  UNNEEDED, same version is already published
kjohnson3macOS 13.7.7 Ventura / arm64  OK    OK    OK    OK  UNNEEDED, same version is already published
taishanLinux (openEuler 24.03 LTS) / aarch64  OK    NA    NA  
Package 3/26HostnameOS / ArchINSTALLBUILDCHECKBUILD BIN
batchelor 1.25.0  (landing page)
Aaron Lun
git_last_commit: 6aba2ed
git_last_commit_date: 2025-04-15 11:42:55 -0400
nebbiolo2Linux (Ubuntu 24.04.3 LTS) / x86_64  OK    OK    OK  UNNEEDED, same version is already published
lconwaymacOS 12.7.6 Monterey / x86_64  OK    OK    OK    OK  UNNEEDED, same version is already published
kjohnson3macOS 13.7.7 Ventura / arm64  OK    OK    OK    OK  UNNEEDED, same version is already published
taishanLinux (openEuler 24.03 LTS) / aarch64  OK    NA    NA  
Package 4/26HostnameOS / ArchINSTALLBUILDCHECKBUILD BIN
chevreulPlot 1.1.2  (landing page)
Kevin Stachelek
git_last_commit: 3745106
git_last_commit_date: 2025-06-04 21:56:43 -0400
nebbiolo2Linux (Ubuntu 24.04.3 LTS) / x86_64  OK    OK    OK  UNNEEDED, same version is already published
lconwaymacOS 12.7.6 Monterey / x86_64  OK    OK    OK    OK  UNNEEDED, same version is already published
kjohnson3macOS 13.7.7 Ventura / arm64  OK    OK    OK    OK  UNNEEDED, same version is already published
taishanLinux (openEuler 24.03 LTS) / aarch64  OK    NA    NA  
Package 5/26HostnameOS / ArchINSTALLBUILDCHECKBUILD BIN
chevreulProcess 1.1.2  (landing page)
Kevin Stachelek
git_last_commit: eabcf1a
git_last_commit_date: 2025-06-04 21:45:43 -0400
nebbiolo2Linux (Ubuntu 24.04.3 LTS) / x86_64  OK    OK    OK  UNNEEDED, same version is already published
lconwaymacOS 12.7.6 Monterey / x86_64  OK    OK    OK    OK  UNNEEDED, same version is already published
kjohnson3macOS 13.7.7 Ventura / arm64  OK    OK    OK    OK  UNNEEDED, same version is already published
taishanLinux (openEuler 24.03 LTS) / aarch64  OK    NA    NA  
Package 6/26HostnameOS / ArchINSTALLBUILDCHECKBUILD BIN
DESpace 2.1.0  (landing page)
Peiying Cai
git_last_commit: d0e41b7
git_last_commit_date: 2025-04-15 13:11:56 -0400
nebbiolo2Linux (Ubuntu 24.04.3 LTS) / x86_64  OK    OK    OK  UNNEEDED, same version is already published
lconwaymacOS 12.7.6 Monterey / x86_64  OK    OK    OK    OK  UNNEEDED, same version is already published
kjohnson3macOS 13.7.7 Ventura / arm64  OK    OK    OK    OK  UNNEEDED, same version is already published
taishanLinux (openEuler 24.03 LTS) / aarch64  OK    NA    NA  
Package 7/26HostnameOS / ArchINSTALLBUILDCHECKBUILD BIN
DropletUtils 1.29.7  (landing page)
Jonathan Griffiths
git_last_commit: d85890b
git_last_commit_date: 2025-08-27 13:53:10 -0400
nebbiolo2Linux (Ubuntu 24.04.3 LTS) / x86_64  OK    OK    WARNINGS  UNNEEDED, same version is already published
lconwaymacOS 12.7.6 Monterey / x86_64  OK    OK    WARNINGS    OK  UNNEEDED, same version is already published
kjohnson3macOS 13.7.7 Ventura / arm64  OK    OK    WARNINGS    OK  UNNEEDED, same version is already published
taishanLinux (openEuler 24.03 LTS) / aarch64  OK    NA    NA  
Package 8/26HostnameOS / ArchINSTALLBUILDCHECKBUILD BIN
epiregulon 1.99.7  (landing page)
Xiaosai Yao
git_last_commit: e606886
git_last_commit_date: 2025-10-23 16:51:10 -0400
nebbiolo2Linux (Ubuntu 24.04.3 LTS) / x86_64  OK    OK    OK  YES
lconwaymacOS 12.7.6 Monterey / x86_64  OK    OK    OK    OK  YES
kjohnson3macOS 13.7.7 Ventura / arm64  OK    OK    OK    OK  YES
taishanLinux (openEuler 24.03 LTS) / aarch64  ERROR    NA    NA  
Package 9/26HostnameOS / ArchINSTALLBUILDCHECKBUILD BIN
FLAMES 2.3.5  (landing page)
Changqing Wang
git_last_commit: 5771592
git_last_commit_date: 2025-09-12 02:43:50 -0400
nebbiolo2Linux (Ubuntu 24.04.3 LTS) / x86_64  OK    OK    OK  UNNEEDED, same version is already published
lconwaymacOS 12.7.6 Monterey / x86_64  OK    OK    OK    OK  UNNEEDED, same version is already published
kjohnson3macOS 13.7.7 Ventura / arm64  OK    OK    OK    OK  UNNEEDED, same version is already published
taishanLinux (openEuler 24.03 LTS) / aarch64  ERROR    NA    NA  
Package 10/26HostnameOS / ArchINSTALLBUILDCHECKBUILD BIN
imcRtools 1.15.5  (landing page)
Daniel Schulz
git_last_commit: 6088bda
git_last_commit_date: 2025-10-20 06:16:05 -0400
nebbiolo2Linux (Ubuntu 24.04.3 LTS) / x86_64  OK    OK    OK  UNNEEDED, same version is already published
lconwaymacOS 12.7.6 Monterey / x86_64  OK    OK    OK    OK  UNNEEDED, same version is already published
kjohnson3macOS 13.7.7 Ventura / arm64  OK    OK    OK    OK  UNNEEDED, same version is already published
taishanLinux (openEuler 24.03 LTS) / aarch64  OK    NA    NA  
Package 11/26HostnameOS / ArchINSTALLBUILDCHECKBUILD BIN
mia 1.17.11  (landing page)
Tuomas Borman
git_last_commit: 6d255d9
git_last_commit_date: 2025-10-24 08:26:32 -0400
nebbiolo2Linux (Ubuntu 24.04.3 LTS) / x86_64  OK    OK    OK  YES
lconwaymacOS 12.7.6 Monterey / x86_64  OK    OK    TIMEOUT    OK  
kjohnson3macOS 13.7.7 Ventura / arm64  OK    OK    ERROR    OK  
taishanLinux (openEuler 24.03 LTS) / aarch64  OK    NA    NA  
Package 12/26HostnameOS / ArchINSTALLBUILDCHECKBUILD BIN
miaDash 1.1.5  (landing page)
Giulio Benedetti
git_last_commit: 6b11cd5
git_last_commit_date: 2025-09-09 14:53:53 -0400
nebbiolo2Linux (Ubuntu 24.04.3 LTS) / x86_64  OK    OK    OK  UNNEEDED, same version is already published
lconwaymacOS 12.7.6 Monterey / x86_64  OK    OK    OK    OK  NO, package depends on 'mia' which is only available as a source package that needs compilation
kjohnson3macOS 13.7.7 Ventura / arm64  OK    OK    OK    OK  NO, package depends on 'mia' which is only available as a source package that needs compilation
taishanLinux (openEuler 24.03 LTS) / aarch64  OK    NA    NA  
Package 13/26HostnameOS / ArchINSTALLBUILDCHECKBUILD BIN
mumosa 1.17.0  (landing page)
Aaron Lun
git_last_commit: 2907a7a
git_last_commit_date: 2025-04-15 12:16:33 -0400
nebbiolo2Linux (Ubuntu 24.04.3 LTS) / x86_64  OK    OK    OK  UNNEEDED, same version is already published
lconwaymacOS 12.7.6 Monterey / x86_64  OK    OK    OK    OK  UNNEEDED, same version is already published
kjohnson3macOS 13.7.7 Ventura / arm64  OK    OK    OK    OK  UNNEEDED, same version is already published
taishanLinux (openEuler 24.03 LTS) / aarch64  OK    NA    NA  
Package 14/26HostnameOS / ArchINSTALLBUILDCHECKBUILD BIN
muscat 1.23.2  (landing page)
Helena L. Crowell
git_last_commit: 8bb91e1
git_last_commit_date: 2025-10-15 04:02:09 -0400
nebbiolo2Linux (Ubuntu 24.04.3 LTS) / x86_64  OK    OK    OK  UNNEEDED, same version is already published
lconwaymacOS 12.7.6 Monterey / x86_64  OK    OK    OK    OK  UNNEEDED, same version is already published
kjohnson3macOS 13.7.7 Ventura / arm64  OK    OK    OK    OK  UNNEEDED, same version is already published
taishanLinux (openEuler 24.03 LTS) / aarch64  OK    NA    NA  
Package 15/26HostnameOS / ArchINSTALLBUILDCHECKBUILD BIN
omicsGMF 0.99.7  (landing page)
Alexandre Segers
git_last_commit: 14caf2e
git_last_commit_date: 2025-10-21 17:03:34 -0400
nebbiolo2Linux (Ubuntu 24.04.3 LTS) / x86_64  OK    OK    OK  YES
lconwaymacOS 12.7.6 Monterey / x86_64  OK    OK    OK    OK  YES
kjohnson3macOS 13.7.7 Ventura / arm64  OK    OK    OK    OK  YES
taishanLinux (openEuler 24.03 LTS) / aarch64  NA    NA    NA  
Package 16/26HostnameOS / ArchINSTALLBUILDCHECKBUILD BIN
SanityR 0.99.3  (landing page)
Teo Sakel
git_last_commit: 30898e5
git_last_commit_date: 2025-07-24 11:57:50 -0400
nebbiolo2Linux (Ubuntu 24.04.3 LTS) / x86_64  OK    OK    OK  UNNEEDED, same version is already published
lconwaymacOS 12.7.6 Monterey / x86_64  OK    OK    OK    OK  UNNEEDED, same version is already published
kjohnson3macOS 13.7.7 Ventura / arm64  OK    OK    OK    OK  UNNEEDED, same version is already published
taishanLinux (openEuler 24.03 LTS) / aarch64  OK    NA    NA  
Package 17/26HostnameOS / ArchINSTALLBUILDCHECKBUILD BIN
scater 1.37.0  (landing page)
Alan O'Callaghan
git_last_commit: aaaa4b0
git_last_commit_date: 2025-04-15 10:58:25 -0400
nebbiolo2Linux (Ubuntu 24.04.3 LTS) / x86_64  OK    OK    OK  UNNEEDED, same version is already published
lconwaymacOS 12.7.6 Monterey / x86_64  OK    OK    OK    OK  UNNEEDED, same version is already published
kjohnson3macOS 13.7.7 Ventura / arm64  OK    OK    ERROR    OK  
taishanLinux (openEuler 24.03 LTS) / aarch64  OK    NA    NA  
Package 18/26HostnameOS / ArchINSTALLBUILDCHECKBUILD BIN
scDblFinder 1.23.9  (landing page)
Pierre-Luc Germain
git_last_commit: d847f68
git_last_commit_date: 2025-10-23 03:46:31 -0400
nebbiolo2Linux (Ubuntu 24.04.3 LTS) / x86_64  OK    OK    OK  UNNEEDED, same version is already published
lconwaymacOS 12.7.6 Monterey / x86_64  OK    OK    OK    OK  UNNEEDED, same version is already published
kjohnson3macOS 13.7.7 Ventura / arm64  OK    OK    OK    OK  UNNEEDED, same version is already published
taishanLinux (openEuler 24.03 LTS) / aarch64  OK    NA    NA  
Package 19/26HostnameOS / ArchINSTALLBUILDCHECKBUILD BIN
scran 1.37.0  (landing page)
Aaron Lun
git_last_commit: 5aa5fc4
git_last_commit_date: 2025-04-15 11:00:55 -0400
nebbiolo2Linux (Ubuntu 24.04.3 LTS) / x86_64  OK    OK    WARNINGS  UNNEEDED, same version is already published
lconwaymacOS 12.7.6 Monterey / x86_64  OK    OK    WARNINGS    OK  UNNEEDED, same version is already published
kjohnson3macOS 13.7.7 Ventura / arm64  OK    OK    WARNINGS    OK  UNNEEDED, same version is already published
taishanLinux (openEuler 24.03 LTS) / aarch64  OK    NA    NA  
Package 20/26HostnameOS / ArchINSTALLBUILDCHECKBUILD BIN
simPIC 1.5.3  (landing page)
Sagrika Chugh
git_last_commit: 81a5788
git_last_commit_date: 2025-05-22 02:25:31 -0400
nebbiolo2Linux (Ubuntu 24.04.3 LTS) / x86_64  OK    OK    OK  UNNEEDED, same version is already published
lconwaymacOS 12.7.6 Monterey / x86_64  OK    OK    OK    OK  UNNEEDED, same version is already published
kjohnson3macOS 13.7.7 Ventura / arm64  OK    OK    OK    OK  UNNEEDED, same version is already published
taishanLinux (openEuler 24.03 LTS) / aarch64  OK    NA    NA  
Package 21/26HostnameOS / ArchINSTALLBUILDCHECKBUILD BIN
singleCellTK 2.19.2  (landing page)
Joshua David Campbell
git_last_commit: 238aed05
git_last_commit_date: 2025-09-26 08:22:06 -0400
nebbiolo2Linux (Ubuntu 24.04.3 LTS) / x86_64  OK    OK    OK  UNNEEDED, same version is already published
lconwaymacOS 12.7.6 Monterey / x86_64  OK    OK    OK    OK  UNNEEDED, same version is already published
kjohnson3macOS 13.7.7 Ventura / arm64  OK    OK    OK    OK  UNNEEDED, same version is already published
taishanLinux (openEuler 24.03 LTS) / aarch64  OK    NA    NA  
Package 22/26HostnameOS / ArchINSTALLBUILDCHECKBUILD BIN
SpaceTrooper 0.99.49  (landing page)
Dario Righelli
git_last_commit: ac46d55
git_last_commit_date: 2025-10-24 06:56:16 -0400
nebbiolo2Linux (Ubuntu 24.04.3 LTS) / x86_64  OK    OK    OK  YES
lconwaymacOS 12.7.6 Monterey / x86_64  OK    OK    OK    OK  YES
kjohnson3macOS 13.7.7 Ventura / arm64  OK    OK    OK    OK  YES
taishanLinux (openEuler 24.03 LTS) / aarch64  OK    NA    NA  
Package 23/26HostnameOS / ArchINSTALLBUILDCHECKBUILD BIN
splatter 1.33.1  (landing page)
Luke Zappia
git_last_commit: 230eec3
git_last_commit_date: 2025-07-08 15:04:15 -0400
nebbiolo2Linux (Ubuntu 24.04.3 LTS) / x86_64  OK    OK    OK  UNNEEDED, same version is already published
lconwaymacOS 12.7.6 Monterey / x86_64  OK    OK    OK    OK  UNNEEDED, same version is already published
kjohnson3macOS 13.7.7 Ventura / arm64  OK    OK    OK    OK  UNNEEDED, same version is already published
taishanLinux (openEuler 24.03 LTS) / aarch64  OK    NA    NA  
Package 24/26HostnameOS / ArchINSTALLBUILDCHECKBUILD BIN
SplineDV 1.1.1  (landing page)
Shreyan Gupta
git_last_commit: 16d71a5
git_last_commit_date: 2025-05-01 16:49:20 -0400
nebbiolo2Linux (Ubuntu 24.04.3 LTS) / x86_64  OK    OK    OK  UNNEEDED, same version is already published
lconwaymacOS 12.7.6 Monterey / x86_64  OK    OK    OK    OK  UNNEEDED, same version is already published
kjohnson3macOS 13.7.7 Ventura / arm64  OK    OK    OK    OK  UNNEEDED, same version is already published
taishanLinux (openEuler 24.03 LTS) / aarch64  OK    NA    NA  
Package 25/26HostnameOS / ArchINSTALLBUILDCHECKBUILD BIN
spoon 1.5.0  (landing page)
Kinnary Shah
git_last_commit: a142b22
git_last_commit_date: 2025-04-15 13:29:27 -0400
nebbiolo2Linux (Ubuntu 24.04.3 LTS) / x86_64  OK    OK    OK  UNNEEDED, same version is already published
lconwaymacOS 12.7.6 Monterey / x86_64  OK    OK    OK    OK  UNNEEDED, same version is already published
kjohnson3macOS 13.7.7 Ventura / arm64  OK    OK    OK    OK  UNNEEDED, same version is already published
taishanLinux (openEuler 24.03 LTS) / aarch64  OK    NA    NA  
Package 26/26HostnameOS / ArchINSTALLBUILDCHECKBUILD BIN
velociraptor 1.19.1  (landing page)
Kevin Rue-Albrecht
git_last_commit: 7b11f27
git_last_commit_date: 2025-07-08 08:09:03 -0400
nebbiolo2Linux (Ubuntu 24.04.3 LTS) / x86_64  OK    OK    OK  UNNEEDED, same version is already published
lconwaymacOS 12.7.6 Monterey / x86_64  OK    OK    OK    OK  UNNEEDED, same version is already published
kjohnson3macOS 13.7.7 Ventura / arm64  OK    ERROR  skippedskipped
taishanLinux (openEuler 24.03 LTS) / aarch64  OK    NA    NA