Package: scry Version: 1.21.0 Command: /home/biocbuild/bbs-3.22-bioc/R/bin/R CMD INSTALL scry StartedAt: 2025-10-27 15:56:47 -0400 (Mon, 27 Oct 2025) EndedAt: 2025-10-27 15:57:11 -0400 (Mon, 27 Oct 2025) EllapsedTime: 23.8 seconds RetCode: 0 Status: OK