Package: scruff Version: 1.27.1 Command: /home/biocbuild/bbs-3.22-bioc/R/bin/R CMD INSTALL scruff StartedAt: 2025-10-24 16:03:08 -0400 (Fri, 24 Oct 2025) EndedAt: 2025-10-24 16:04:07 -0400 (Fri, 24 Oct 2025) EllapsedTime: 59.6 seconds RetCode: 0 Status: OK